View In:
ArcGIS JavaScript
ArcGIS Online Map Viewer
ArcGIS Earth
ArcMap
View Footprint In:
ArcGIS Online Map Viewer
Service Description: This image service provides access to drought exposure time series spatial data that were compiled to investigate how rangelands in the western U.S. are limited by access to water. The purpose of these data services is to describe geographic and temporal patterns in climate and drought exposure of dryland ecosystems in the western USA. These data were created to quantify spatial and temporal patterns of rangeland ecological drought conditions under historical and future climate conditions.
Name: RangeExposure_TimeSeries/DroughtExposure_cwdseasonality_timeseries_yr
Description: This image service provides access to drought exposure time series spatial data that were compiled to investigate how rangelands in the western U.S. are limited by access to water. The purpose of these data services is to describe geographic and temporal patterns in climate and drought exposure of dryland ecosystems in the western USA. These data were created to quantify spatial and temporal patterns of rangeland ecological drought conditions under historical and future climate conditions.
Single Fused Map Cache: false
Extent:
XMin: -124.625
YMin: 25.875
XMax: -93.5
YMax: 49
Spatial Reference: 4326
(4326)
Initial Extent:
XMin: -124.625
YMin: 25.875
XMax: -93.5
YMax: 49
Spatial Reference: 4326
(4326)
Full Extent:
XMin: -124.625
YMin: 25.875
XMax: -93.5
YMax: 49
Spatial Reference: 4326
(4326)
Time Info:
Start Time Field: StdTime
End Time Field: StdTime
Time Extent:
[1971/01/01 00:00:00 UTC, 2010/01/01 00:00:00 UTC]
Time Reference:
N/A
Pixel Size X: 0.0625
Pixel Size Y: 0.0625
Band Count: 1
Pixel Type: F64
RasterFunction Infos: {"rasterFunctionInfos": [
{
"name": "None",
"description": "Make a Raster or Raster Dataset into a Function Raster Dataset.",
"help": ""
},
{
"name": "cwdseasonality",
"description": "A raster function template.",
"help": ""
}
]}
Mensuration Capabilities: None
Has Histograms: true
Has Colormap: false
Has Multi Dimensions : true
Rendering Rule:
Min Scale: 0
Max Scale: 0
Copyright Text:
Service Data Type: esriImageServiceDataTypeScientific
Min Values: -0.041735067754737336
Max Values: 0.9970213407464834
Mean Values: 0.9031276538298447
Standard Deviation Values: 0.07330175045019836
Object ID Field: objectid
Fields:
-
objectid
(
type: esriFieldTypeOID, alias: objectid
)
-
name
(
type: esriFieldTypeString, alias: name, length: 200
)
-
minps
(
type: esriFieldTypeDouble, alias: minps
)
-
maxps
(
type: esriFieldTypeDouble, alias: maxps
)
-
lowps
(
type: esriFieldTypeDouble, alias: lowps
)
-
highps
(
type: esriFieldTypeDouble, alias: highps
)
-
category
(
type: esriFieldTypeInteger, alias: category
,
Coded Values:
[0: Unknown]
,
[1: Primary]
,
[2: Overview]
, ...6 more...
)
-
tag
(
type: esriFieldTypeString, alias: tag, length: 100
)
-
groupname
(
type: esriFieldTypeString, alias: groupname, length: 100
)
-
productname
(
type: esriFieldTypeString, alias: productname, length: 100
)
-
centerx
(
type: esriFieldTypeDouble, alias: centerx
)
-
centery
(
type: esriFieldTypeDouble, alias: centery
)
-
zorder
(
type: esriFieldTypeInteger, alias: zorder
)
-
shape
(
type: esriFieldTypeGeometry, alias: shape
)
-
variable
(
type: esriFieldTypeString, alias: Variable, length: 50
)
-
dimensions
(
type: esriFieldTypeString, alias: Dimensions, length: 50
)
-
stdtime
(
type: esriFieldTypeDate, alias: Standard Time, length: 8
)
-
stdtime_max
(
type: esriFieldTypeDate, alias: Standard Time Maximum, length: 8
)
-
st_area(shape)
(
type: esriFieldTypeDouble, alias: st_area(shape)
)
-
st_length(shape)
(
type: esriFieldTypeDouble, alias: st_length(shape)
)
Default Mosaic Method: ByAttribute
Allowed Mosaic Methods: ByAttribute,NorthWest,Center,LockRaster,Nadir,Viewpoint,Seamline,None
SortField: StdTime
SortValue: 0
Mosaic Operator: First
Default Compression Quality: 75
Default Resampling Method: Bilinear
Max Record Count: 1000
Max Image Height: 4100
Max Image Width: 15000
Max Download Image Count: 20
Max Mosaic Image Count: 20
Allow Raster Function: true
Allow Copy: true
Allow Analysis: true
Allow Compute TiePoints: false
Supports Statistics: true
Supports Advanced Queries: true
Use StandardizedQueries: true
Raster Type Infos:
Name: Raster Dataset
Description: Supports all ArcGIS Raster Datasets
Help:
Has Raster Attribute Table: false
Edit Fields Info: null
Ownership Based AccessControl For Rasters: null
Child Resources:
Info
Histograms
Statistics
Key Properties
Legend
Raster Function Infos
Multidimensional Info
Slices
Supported Operations:
Export Image
Query
Identify
Compute Histograms
Compute Statistics Histograms
Get Samples
Compute Class Statistics
Query Boundary
Compute Pixel Location
Validate
Project