View In:
ArcGIS JavaScript
ArcGIS Online Map Viewer
ArcGIS Earth
ArcMap
View Footprint In:
ArcGIS Online Map Viewer
Service Description: This image service provides access to drought exposure spatial data that were compiled to provide comprehensive maps for the western half of the United States.
Name: RangeExposure_Medians/droughtexposure_dsi_median_yr_20610101_21001231
Description: This image service provides access to drought exposure spatial data that were compiled to provide comprehensive maps for the western half of the United States.
Single Fused Map Cache: false
Extent:
XMin: -124.625
YMin: 25.875
XMax: -93.5
YMax: 49
Spatial Reference: 4326
(4326)
Initial Extent:
XMin: -124.625
YMin: 25.875
XMax: -93.5
YMax: 49
Spatial Reference: 4326
(4326)
Full Extent:
XMin: -124.625
YMin: 25.875
XMax: -93.5
YMax: 49
Spatial Reference: 4326
(4326)
Pixel Size X: 0.0625
Pixel Size Y: 0.0625
Band Count: 1
Pixel Type: F32
RasterFunction Infos: {"rasterFunctionInfos": [{
"name": "None",
"description": "",
"help": ""
}]}
Mensuration Capabilities: Basic
Has Histograms: true
Has Colormap: false
Has Multi Dimensions : false
Rendering Rule:
Min Scale: 0
Max Scale: 0
Copyright Text:
Service Data Type: esriImageServiceDataTypeGeneric
Min Values: 8.23727035522461
Max Values: 180.60458374023438
Mean Values: 32.38786861342115
Standard Deviation Values: 19.143794838912733
Object ID Field:
Fields:
None
Default Mosaic Method: Center
Allowed Mosaic Methods:
SortField:
SortValue: null
Mosaic Operator: First
Default Compression Quality: 75
Default Resampling Method: Bilinear
Max Record Count: null
Max Image Height: 4100
Max Image Width: 15000
Max Download Image Count: null
Max Mosaic Image Count: null
Allow Raster Function: true
Allow Copy: true
Allow Analysis: true
Allow Compute TiePoints: false
Supports Statistics: false
Supports Advanced Queries: false
Use StandardizedQueries: true
Raster Type Infos:
Name: Raster Dataset
Description: Supports all ArcGIS Raster Datasets
Help:
Has Raster Attribute Table: false
Edit Fields Info: null
Ownership Based AccessControl For Rasters: null
Child Resources:
Info
Histograms
Statistics
Key Properties
Legend
Raster Function Infos
Supported Operations:
Export Image
Identify
Measure
Compute Histograms
Compute Statistics Histograms
Get Samples
Compute Class Statistics
Query Boundary
Compute Pixel Location
Validate
Project